BEGIN:VCALENDAR
VERSION:2.0
PRODID:-//Tesoro High School Choir - ECPv4.9.7//NONSGML v1.0//EN
CALSCALE:GREGORIAN
METHOD:PUBLISH
X-WR-CALNAME:Tesoro High School Choir
X-ORIGINAL-URL:http://tesorochoir.com
X-WR-CALDESC:Events for Tesoro High School Choir
BEGIN:VTIMEZONE
TZID:"America/Los_Angeles"
BEGIN:DAYLIGHT
TZOFFSETFROM:-0800
TZOFFSETTO:-0700
TZNAME:PDT
DTSTART:20260308T100000
END:DAYLIGHT
BEGIN:STANDARD
TZOFFSETFROM:-0700
TZOFFSETTO:-0800
TZNAME:PST
DTSTART:20261101T090000
END:STANDARD
END:VTIMEZONE
BEGIN:VEVENT
DTSTART;TZID="America/Los_Angeles":20260515T190000
DTEND;TZID="America/Los_Angeles":20260515T220000
DTSTAMP:20260424T182033
CREATED:20250820T222453Z
LAST-MODIFIED:20250820T222453Z
UID:3114-1778871600-1778882400@tesorochoir.com
SUMMARY:Pops Concert Night 2
DESCRIPTION:To request password\, please email Mr. Hancock
URL:http://tesorochoir.com/event/pops-concert-night-2-2/
END:VEVENT
END:VCALENDAR